BEGIN:VCALENDAR
VERSION:2.0
PRODID:-//First Baptist Church Colcord - ECPv6.15.16//NONSGML v1.0//EN
CALSCALE:GREGORIAN
METHOD:PUBLISH
X-WR-CALNAME:First Baptist Church Colcord
X-ORIGINAL-URL:https://www.colcordchurch.org
X-WR-CALDESC:Events for First Baptist Church Colcord
REFRESH-INTERVAL;VALUE=DURATION:PT1H
X-Robots-Tag:noindex
X-PUBLISHED-TTL:PT1H
BEGIN:VTIMEZONE
TZID:America/Chicago
BEGIN:DAYLIGHT
TZOFFSETFROM:-0600
TZOFFSETTO:-0500
TZNAME:CDT
DTSTART:20230312T080000
END:DAYLIGHT
BEGIN:STANDARD
TZOFFSETFROM:-0500
TZOFFSETTO:-0600
TZNAME:CST
DTSTART:20231105T070000
END:STANDARD
BEGIN:DAYLIGHT
TZOFFSETFROM:-0600
TZOFFSETTO:-0500
TZNAME:CDT
DTSTART:20240310T080000
END:DAYLIGHT
BEGIN:STANDARD
TZOFFSETFROM:-0500
TZOFFSETTO:-0600
TZNAME:CST
DTSTART:20241103T070000
END:STANDARD
BEGIN:DAYLIGHT
TZOFFSETFROM:-0600
TZOFFSETTO:-0500
TZNAME:CDT
DTSTART:20250309T080000
END:DAYLIGHT
BEGIN:STANDARD
TZOFFSETFROM:-0500
TZOFFSETTO:-0600
TZNAME:CST
DTSTART:20251102T070000
END:STANDARD
BEGIN:DAYLIGHT
TZOFFSETFROM:-0600
TZOFFSETTO:-0500
TZNAME:CDT
DTSTART:20260308T080000
END:DAYLIGHT
BEGIN:STANDARD
TZOFFSETFROM:-0500
TZOFFSETTO:-0600
TZNAME:CST
DTSTART:20261101T070000
END:STANDARD
END:VTIMEZONE
BEGIN:VEVENT
DTSTART;TZID=America/Chicago:20250208T180000
DTEND;TZID=America/Chicago:20250208T200000
DTSTAMP:20260425T112133
CREATED:20250115T154812Z
LAST-MODIFIED:20250115T162615Z
UID:3081-1739037600-1739044800@www.colcordchurch.org
SUMMARY:Daryl Mosley in Concert
DESCRIPTION:Join us for a spirit-filled evening with celebrated singer-songwriter Daryl Mosley. Known for his heartfelt storytelling and faith-inspired music\, Daryl shares messages of hope\, love\, and God’s grace through song. With numerous Songwriter of the Year awards and multiple #1 songs\, his performances bring warmth\, sincerity\, and spiritual encouragement. \nDon’t miss this opportunity to experience Daryl Mosley’s uplifting music live in an intimate setting at the First Baptist Church of Colcord\, Oklahoma. Show up and be part of a night of praise\, worship\, and community fellowship.
URL:https://www.colcordchurch.org/event/daryl-mosley-in-concert/
LOCATION:First Baptist Church of Colcord\, OK\, 538 E. Main\, Colcord\, OK\, 74338\, United States
CATEGORIES:Church,Concert,Feature
ATTACH;FMTTYPE=image/jpeg:https://www.colcordchurch.org/wp-content/uploads/2025/01/473169695_1634803190797267_4045868749317730868_n-e1736958222247.jpg
ORGANIZER;CN="First Baptist Church of Colcord%2C OK":MAILTO:contact@colcordchurch.org
END:VEVENT
BEGIN:VEVENT
DTSTART;TZID=America/Chicago:20241222T183000
DTEND;TZID=America/Chicago:20241222T200000
DTSTAMP:20260425T112133
CREATED:20241124T051537Z
LAST-MODIFIED:20241125T081449Z
UID:3058-1734892200-1734897600@www.colcordchurch.org
SUMMARY:First Baptist Candlelight Service featuring the First Slavic Baptist Church Youth Choir
DESCRIPTION:The First Slavic Baptist Church Youth Choir of Tulsa\, OK\, will be presenting a special Christmas program at First Baptist Colcord.\n\n\n✨ Enjoy a beautiful selection of traditional songs from Russia\, Ukraine\, and America\, celebrating the spirit of the season.\n\n\n🗓️ Date: December 22\n🕔 Time: 6:30 PM\n📍 Location: First Baptist Church\, Colcord\, OK\n\n\nJoin us for an evening of inspiring music and warm fellowship as we welcome this talented group to our community. We hope to see you there!
URL:https://www.colcordchurch.org/event/first-baptist-candlelight-service-featuring-the-first-slavic-baptist-church-youth-choir/
LOCATION:First Baptist Church of Colcord\, OK\, 538 E. Main\, Colcord\, OK\, 74338\, United States
CATEGORIES:Church,Concert,Feature,Outreach
ATTACH;FMTTYPE=image/webp:https://www.colcordchurch.org/wp-content/uploads/2024/11/First-slavic-baptist-church-youth-choir-e1732426195755.webp
ORGANIZER;CN="First Baptist Church of Colcord%2C OK":MAILTO:contact@colcordchurch.org
END:VEVENT
BEGIN:VEVENT
DTSTART;TZID=America/Chicago:20241110T000000
DTEND;TZID=America/Chicago:20241113T235959
DTSTAMP:20260425T112133
CREATED:20241003T031559Z
LAST-MODIFIED:20241003T031933Z
UID:3034-1731196800-1731542399@www.colcordchurch.org
SUMMARY:Revival at First Baptist Colcord: Renew\, Refresh\, Rejoice
DESCRIPTION:Join us for a powerful Revival at First Baptist Church Colcord\, featuring Bro. Scott Hill\, Director of Missions for the Northeastern Baptist Association. The revival kicks off on Sunday Nov 10th during our 11:00 AM morning worship service and continues Monday through Wednesday at 6:30 PM. This is a special time of spiritual renewal and growth as Bro. Hill leads us in messages of faith\, hope\, and revival. Whether you’re a long-time member or new to our church\, come and experience the moving of the Holy Spirit in worship and fellowship. All are welcome! \nLet’s come together in prayer and anticipation for what God will do during these revival services.
URL:https://www.colcordchurch.org/event/revival-at-first-baptist-colcord-renew-refresh-rejoice/
LOCATION:First Baptist Church of Colcord\, OK\, 538 E. Main\, Colcord\, OK\, 74338\, United States
CATEGORIES:Church,Feature,Outreach,Revival
ATTACH;FMTTYPE=image/jpeg:https://www.colcordchurch.org/wp-content/uploads/2024/08/20240809_134552-1-scaled.jpg
ORGANIZER;CN="First Baptist Church of Colcord%2C OK":MAILTO:contact@colcordchurch.org
END:VEVENT
BEGIN:VEVENT
DTSTART;TZID=America/Chicago:20240922T183000
DTEND;TZID=America/Chicago:20240922T200000
DTSTAMP:20260425T112133
CREATED:20240908T021917Z
LAST-MODIFIED:20240909T173651Z
UID:2741-1727029800-1727035200@www.colcordchurch.org
SUMMARY:The Parnells at First Baptist Colcord
DESCRIPTION:Join us for a live gospel music performance with The Parnells on Sept. 22 at 6:30 PM at First Baptist Church Colcord\, OK. This talented group from Northwest Arkansas brings heartfelt worship and powerful harmonies\, sharing the message of Christ. Experience uplifting Christian worship music and be inspired by their passionate ministry. Everyone is welcome to this Colcord gospel music event!
URL:https://www.colcordchurch.org/event/the-parnells-at-first-baptist-colcord/
LOCATION:First Baptist Church of Colcord\, OK\, 538 E. Main\, Colcord\, OK\, 74338\, United States
CATEGORIES:Feature
ATTACH;FMTTYPE=image/webp:https://www.colcordchurch.org/wp-content/uploads/2024/09/parnells-e1725871754402.webp
ORGANIZER;CN="First Baptist Church of Colcord%2C OK":MAILTO:contact@colcordchurch.org
END:VEVENT
BEGIN:VEVENT
DTSTART;TZID=America/Chicago:20240915T160000
DTEND;TZID=America/Chicago:20240915T200000
DTSTAMP:20260425T112133
CREATED:20240826T160338Z
LAST-MODIFIED:20240909T173618Z
UID:2210-1726416000-1726430400@www.colcordchurch.org
SUMMARY:"Big God Little Church" Conference
DESCRIPTION:Focusing on strengthening the leadership in smaller churches. \nPlace: First Baptist Church\, Tulsa (420 S Detroit\, Tulsa\, OK 74103 — Park and Enter on Detroit side)\nKeynote: JimBo Stewart\, Associate Director\, Replant\, NAMB \nRSVP: here
URL:https://www.colcordchurch.org/event/13th-annual-big-god-little-church-conference/
LOCATION:First Baptist Church\, Tulsa\, 420 South Detroit Avenue\, Tulsa\, OK\, 74120\, United States
CATEGORIES:Association,Conference,Feature,State Convention
ATTACH;FMTTYPE=image/jpeg:https://www.colcordchurch.org/wp-content/uploads/2024/08/Big-God-Little-Church-Conf-e1725902276658.jpg
END:VEVENT
END:VCALENDAR